BEGIN:VCALENDAR
VERSION:2.0
PRODID:-//wp-events-plugin.com//7.2.3.1//EN
TZID:Europe/Berlin
X-WR-TIMEZONE:Europe/Berlin
BEGIN:VEVENT
UID:107@butenploener.de
DTSTART;TZID=Europe/Berlin:20250912T100000
DTEND;TZID=Europe/Berlin:20250912T180000
DTSTAMP:20250731T071032Z
URL:https://butenploener.de/veranstaltungen/iwa-revival-2025/
SUMMARY:IWA-Revival 2025
DESCRIPTION:Die Tradition der ehemaligen Internatswanderung soll zum diesj
 ährigen Butenpönertreffen wiederaufleben. Allerdings dieses Mal per Drah
 tesel.
ATTACH;FMTTYPE=image/jpeg:https://butenploener.de/wp-content/uploads/2025/
 03/g33e2c9608bae515ae26bf41b7c57ea632c48734e83e5cbcb87d331066d63a0bc957956
 9853a55c1680c0edf6c0ab5922_1920.jpg
CATEGORIES:Butenplönertreffen,Internatlertreffen
LOCATION:George Glamp - Campingplatz Belauer See\, Perdoeler Mühle 3\, Be
 lau\, 24601\, Deutschland
X-APPLE-STRUCTURED-LOCATION;VALUE=URI;X-ADDRESS=Perdoeler Mühle 3\, Belau
 \, 24601\, Deutschland;X-APPLE-RADIUS=100;X-TITLE=George Glamp - Campingpl
 atz Belauer See:geo:0,0
END:VEVENT
BEGIN:VTIMEZONE
TZID:Europe/Berlin
X-LIC-LOCATION:Europe/Berlin
BEGIN:DAYLIGHT
DTSTART:20250330T030000
TZOFFSETFROM:+0100
TZOFFSETTO:+0200
TZNAME:CEST
END:DAYLIGHT
END:VTIMEZONE
END:VCALENDAR